{
 "currentVersion": 11.3,
 "cimVersion": "3.3.0",
 "serviceDescription": "",
 "mapName": "Layers",
 "description": "",
 "copyrightText": "",
 "supportsDynamicLayers": true,
 "layers": [
  {
   "id": 0,
   "name": "2013 FSA Image",
   "parentLayerId": -1,
   "defaultVisibility": true,
   "subLayerIds": null,
   "minScale": 0,
   "maxScale": 0,
   "type": "Raster Layer",
   "supportsDynamicLegends": true
  }
 ],
 "tables": [],
 "spatialReference": {
  "wkid": 103713,
  "latestWkid": 103713,
  "xyTolerance": 0.003280833333333333,
  "zTolerance": 0.001,
  "mTolerance": 0.001,
  "falseX": -118990000,
  "falseY": -98619200,
  "xyUnits": 3.7690180160435975E7,
  "falseZ": -100000,
  "zUnits": 10000,
  "falseM": -100000,
  "mUnits": 10000
 },
 "singleFusedMapCache": true,
 "tileInfo": {
  "rows": 256,
  "cols": 256,
  "dpi": 96,
  "format": "MIXED",
  "compressionQuality": 75,
  "origin": {
   "x": -118990000,
   "y": 1.4036080000000003E8
  },
  "spatialReference": {
   "wkid": 103713,
   "latestWkid": 103713,
   "xyTolerance": 0.003280833333333333,
   "zTolerance": 0.001,
   "mTolerance": 0.001,
   "falseX": -118990000,
   "falseY": -98619200,
   "xyUnits": 3.7690180160435975E7,
   "falseZ": -100000,
   "zUnits": 10000,
   "falseM": -100000,
   "mUnits": 10000
  },
  "lods": [
   {
    "level": 0,
    "resolution": 325.5208333333333,
    "scale": 375000
   },
   {
    "level": 1,
    "resolution": 86.80555555555556,
    "scale": 100000
   },
   {
    "level": 2,
    "resolution": 43.40277777777778,
    "scale": 50000
   },
   {
    "level": 3,
    "resolution": 20.833333333333332,
    "scale": 24000
   },
   {
    "level": 4,
    "resolution": 8.680555555555555,
    "scale": 10000
   },
   {
    "level": 5,
    "resolution": 4.340277777777778,
    "scale": 5000
   },
   {
    "level": 6,
    "resolution": 3.038194444444444,
    "scale": 3500
   },
   {
    "level": 7,
    "resolution": 2.170138888888889,
    "scale": 2500
   },
   {
    "level": 8,
    "resolution": 1.953125,
    "scale": 2250
   },
   {
    "level": 9,
    "resolution": 1.736111111111111,
    "scale": 2000
   },
   {
    "level": 10,
    "resolution": 1.519097222222222,
    "scale": 1750
   },
   {
    "level": 11,
    "resolution": 1.3020833333333333,
    "scale": 1500
   },
   {
    "level": 12,
    "resolution": 1.0850694444444444,
    "scale": 1250
   },
   {
    "level": 13,
    "resolution": 0.8680555555555555,
    "scale": 1000
   },
   {
    "level": 14,
    "resolution": 0.5,
    "scale": 576
   },
   {
    "level": 15,
    "resolution": 0.25,
    "scale": 288
   }
  ]
 },
 "storageInfo": {
  "storageFormat": "esriMapCacheStorageModeCompact",
  "packetSize": 128
 },
 "initialExtent": {
  "xmin": 212307.05821328468,
  "ymin": 176835.79197868257,
  "xmax": 612356.2073839364,
  "ymax": 335439.3484640383,
  "spatialReference": {
   "wkid": 103713,
   "latestWkid": 103713,
   "xyTolerance": 0.003280833333333333,
   "zTolerance": 0.001,
   "mTolerance": 0.001,
   "falseX": -118990000,
   "falseY": -98619200,
   "xyUnits": 3.7690180160435975E7,
   "falseZ": -100000,
   "zUnits": 10000,
   "falseM": -100000,
   "mUnits": 10000
  }
 },
 "fullExtent": {
  "xmin": 281393.2523632175,
  "ymin": 88414.1493054052,
  "xmax": 504478.00374471344,
  "ymax": 279976.5493164306,
  "spatialReference": {
   "wkid": 103713,
   "latestWkid": 103713,
   "xyTolerance": 0.003280833333333333,
   "zTolerance": 0.001,
   "mTolerance": 0.001,
   "falseX": -118990000,
   "falseY": -98619200,
   "xyUnits": 3.7690180160435975E7,
   "falseZ": -100000,
   "zUnits": 10000,
   "falseM": -100000,
   "mUnits": 10000
  }
 },
 "datesInUnknownTimezone": false,
 "minScale": 375000,
 "maxScale": 288,
 "units": "esriFeet",
 "supportedImageFormatTypes": "PNG32,PNG24,PNG,JPG,DIB,TIFF,EMF,PS,PDF,GIF,SVG,SVGZ,BMP",
 "documentInfo": {
  "Title": "",
  "Author": "",
  "Comments": "",
  "Subject": "",
  "Category": "",
  "Version": "10.1",
  "AntialiasingMode": "None",
  "TextAntialiasingMode": "Force",
  "Keywords": ""
 },
 "supportsQueryDomains": true,
 "capabilities": "Map,Query,Data",
 "supportedQueryFormats": "JSON, geoJSON, PBF",
 "exportTilesAllowed": false,
 "referenceScale": 0.0,
 "supportsDatumTransformation": true,
 "archivingInfo": {
  "supportsHistoricMoment": false
 },
 "supportsClipping": true,
 "supportsSpatialFilter": true,
 "supportsTimeRelation": true,
 "supportsQueryDataElements": true,
 "mapUnits": {
  "uwkid": 9003
 },
 "maxRecordCount": 1000,
 "maxImageHeight": 4096,
 "maxImageWidth": 4096,
 "supportedExtensions": "KmlServer",
 "serviceItemId": "6fe97857bc6c4e66a9c6bd0177ea9e92"
}
